BEGIN:VCALENDAR
VERSION:2.0
PRODID:-//Kanu-Club Herborn - ECPv6.15.20//NONSGML v1.0//EN
CALSCALE:GREGORIAN
METHOD:PUBLISH
X-ORIGINAL-URL:https://kanuclub-herborn.de
X-WR-CALDESC:Veranstaltungen für Kanu-Club Herborn
REFRESH-INTERVAL;VALUE=DURATION:PT1H
X-Robots-Tag:noindex
X-PUBLISHED-TTL:PT1H
BEGIN:VTIMEZONE
TZID:UTC
BEGIN:STANDARD
TZOFFSETFROM:+0000
TZOFFSETTO:+0000
TZNAME:UTC
DTSTART:20250101T000000
END:STANDARD
END:VTIMEZONE
BEGIN:VEVENT
DTSTART;VALUE=DATE:20260503
DTEND;VALUE=DATE:20260504
DTSTAMP:20260424T091102
CREATED:20260112T193234Z
LAST-MODIFIED:20260112T193234Z
UID:7956-1777766400-1777852799@kanuclub-herborn.de
SUMMARY:Vereinsfahrt auf der Eder oder Fulda
DESCRIPTION:Anmeldung bei Willi Hehrmann
URL:https://kanuclub-herborn.de/termin/vereinsfahrt-auf-der-eder-oder-fulda-2/
CATEGORIES:Vereinsfahrt
ATTACH;FMTTYPE=image/jpeg:https://kanuclub-herborn.de/wp-content/uploads/2020/08/wanderfahrt-1.jpg
END:VEVENT
END:VCALENDAR