BEGIN:VCALENDAR
VERSION:2.0
PRODID:-//Kanu-Club Herborn - ECPv6.15.20//NONSGML v1.0//EN
CALSCALE:GREGORIAN
METHOD:PUBLISH
X-ORIGINAL-URL:https://kanuclub-herborn.de
X-WR-CALDESC:Veranstaltungen für Kanu-Club Herborn
REFRESH-INTERVAL;VALUE=DURATION:PT1H
X-Robots-Tag:noindex
X-PUBLISHED-TTL:PT1H
BEGIN:VTIMEZONE
TZID:UTC
BEGIN:STANDARD
TZOFFSETFROM:+0000
TZOFFSETTO:+0000
TZNAME:UTC
DTSTART:20240101T000000
END:STANDARD
END:VTIMEZONE
BEGIN:VEVENT
DTSTART;TZID=UTC:20251229T110000
DTEND;TZID=UTC:20251229T160000
DTSTAMP:20260424T111236
CREATED:20250115T175612Z
LAST-MODIFIED:20250115T175612Z
UID:7922-1767006000-1767024000@kanuclub-herborn.de
SUMMARY:Winterwanderung & Jahresabschluss
DESCRIPTION:Treffpunkt Bootshaus\, 11.00 Uhr \nAnmeldung bei Willi Hehrmann
URL:https://kanuclub-herborn.de/termin/winterwanderung-jahresabschluss/
CATEGORIES:Vereinsfahrt
END:VEVENT
END:VCALENDAR