BEGIN:VCALENDAR
VERSION:2.0
PRODID:-//Kanu-Club Herborn - ECPv6.15.20//NONSGML v1.0//EN
CALSCALE:GREGORIAN
METHOD:PUBLISH
X-ORIGINAL-URL:https://kanuclub-herborn.de
X-WR-CALDESC:Veranstaltungen für Kanu-Club Herborn
REFRESH-INTERVAL;VALUE=DURATION:PT1H
X-Robots-Tag:noindex
X-PUBLISHED-TTL:PT1H
BEGIN:VTIMEZONE
TZID:UTC
BEGIN:STANDARD
TZOFFSETFROM:+0000
TZOFFSETTO:+0000
TZNAME:UTC
DTSTART:20240101T000000
END:STANDARD
END:VTIMEZONE
BEGIN:VEVENT
DTSTART;TZID=UTC:20251011T100000
DTEND;TZID=UTC:20251011T140000
DTSTAMP:20260424T144130
CREATED:20250115T175341Z
LAST-MODIFIED:20250115T175341Z
UID:7918-1760176800-1760191200@kanuclub-herborn.de
SUMMARY:„Sauberes Bootshaus“
DESCRIPTION:Ansprechpartner: Nils Riesinger und Steven Gehrmann
URL:https://kanuclub-herborn.de/termin/sauberes-bootshaus-6/
CATEGORIES:Aktion
ATTACH;FMTTYPE=image/jpeg:https://kanuclub-herborn.de/wp-content/uploads/2020/08/paddlertreff-2.jpg
END:VEVENT
BEGIN:VEVENT
DTSTART;VALUE=DATE:20251012
DTEND;VALUE=DATE:20251013
DTSTAMP:20260424T144130
CREATED:20250115T173640Z
LAST-MODIFIED:20250115T173640Z
UID:7886-1760227200-1760313599@kanuclub-herborn.de
SUMMARY:WWW-Tour 2025/2026 1. Fahrt
DESCRIPTION:von Gießen (Badenburg) nach Wetzlar (Fischerhütte)
URL:https://kanuclub-herborn.de/termin/www-tour-2025-2026-1-fahrt/
CATEGORIES:WWW-Tour
ATTACH;FMTTYPE=image/jpeg:https://kanuclub-herborn.de/wp-content/uploads/2022/12/20221113_124942-scaled.jpg
END:VEVENT
BEGIN:VEVENT
DTSTART;TZID=UTC:20251019T103000
DTEND;TZID=UTC:20251019T160000
DTSTAMP:20260424T144130
CREATED:20250115T175444Z
LAST-MODIFIED:20250115T175444Z
UID:7920-1760869800-1760889600@kanuclub-herborn.de
SUMMARY:Herbstwanderung
DESCRIPTION:Treffpunkt Bootshaus\, 10:30 Uhr. \nAnmeldung bei Willi Hehrmann.
URL:https://kanuclub-herborn.de/termin/herbstwanderung-5/
CATEGORIES:Vereinsfahrt
END:VEVENT
END:VCALENDAR