BEGIN:VCALENDAR
VERSION:2.0
PRODID:-//Kanu-Club Herborn - ECPv6.15.20//NONSGML v1.0//EN
CALSCALE:GREGORIAN
METHOD:PUBLISH
X-WR-CALNAME:Kanu-Club Herborn
X-ORIGINAL-URL:https://kanuclub-herborn.de
X-WR-CALDESC:Veranstaltungen für Kanu-Club Herborn
REFRESH-INTERVAL;VALUE=DURATION:PT1H
X-Robots-Tag:noindex
X-PUBLISHED-TTL:PT1H
BEGIN:VTIMEZONE
TZID:UTC
BEGIN:STANDARD
TZOFFSETFROM:+0000
TZOFFSETTO:+0000
TZNAME:UTC
DTSTART:20240101T000000
END:STANDARD
END:VTIMEZONE
BEGIN:VEVENT
DTSTART;VALUE=DATE:20250905
DTEND;VALUE=DATE:20250908
DTSTAMP:20260424T162156
CREATED:20250115T175203Z
LAST-MODIFIED:20250115T175203Z
UID:7914-1757030400-1757289599@kanuclub-herborn.de
SUMMARY:Wildwasserwochenende an der Oker / Harz
DESCRIPTION:Anmeldung bei Boris Katzenmeyer
URL:https://kanuclub-herborn.de/termin/wildwasserwochenende-an-der-oker-harz/
CATEGORIES:Vereinsfahrt,Wildwasser
ATTACH;FMTTYPE=image/jpeg:https://kanuclub-herborn.de/wp-content/uploads/2020/08/ww-fahrt.jpg
END:VEVENT
BEGIN:VEVENT
DTSTART;TZID=UTC:20250919T180000
DTEND;TZID=UTC:20250919T210000
DTSTAMP:20260424T162157
CREATED:20250115T175244Z
LAST-MODIFIED:20250115T175244Z
UID:7916-1758304800-1758315600@kanuclub-herborn.de
SUMMARY:Paddlertreff
DESCRIPTION:Wir treffen uns am Bootshaus und Grillen bei netten Gesprächen.. \nGrillgut bringt bitte jeder mit\, Getränke sind vorhanden.
URL:https://kanuclub-herborn.de/termin/paddlertreff-20/
LOCATION:Bootshaus
CATEGORIES:Paddlertreff
ATTACH;FMTTYPE=image/jpeg:https://kanuclub-herborn.de/wp-content/uploads/2020/08/paddlertreff-2.jpg
END:VEVENT
END:VCALENDAR