BEGIN:VCALENDAR
VERSION:2.0
PRODID:-//Kanu-Club Herborn - ECPv6.15.20//NONSGML v1.0//EN
CALSCALE:GREGORIAN
METHOD:PUBLISH
X-ORIGINAL-URL:https://kanuclub-herborn.de
X-WR-CALDESC:Veranstaltungen für Kanu-Club Herborn
REFRESH-INTERVAL;VALUE=DURATION:PT1H
X-Robots-Tag:noindex
X-PUBLISHED-TTL:PT1H
BEGIN:VTIMEZONE
TZID:UTC
BEGIN:STANDARD
TZOFFSETFROM:+0000
TZOFFSETTO:+0000
TZNAME:UTC
DTSTART:20240101T000000
END:STANDARD
END:VTIMEZONE
BEGIN:VEVENT
DTSTART;VALUE=DATE:20250806
DTEND;VALUE=DATE:20250815
DTSTAMP:20260424T175750
CREATED:20250115T174625Z
LAST-MODIFIED:20250115T174625Z
UID:7907-1754438400-1755215999@kanuclub-herborn.de
SUMMARY:Wildwasserwoche des HKV in Lienz (Osttirol)
DESCRIPTION:Info und Anmeldung bis 30.04. bei Marvin Rades
URL:https://kanuclub-herborn.de/termin/wildwasserwoche-des-hkv-in-lienz-osttirol/
CATEGORIES:Vereinsfahrt,Wildwasser
ATTACH;FMTTYPE=image/jpeg:https://kanuclub-herborn.de/wp-content/uploads/2020/08/ww-fahrt.jpg
END:VEVENT
BEGIN:VEVENT
DTSTART;TZID=UTC:20250822T180000
DTEND;TZID=UTC:20250822T210000
DTSTAMP:20260424T175751
CREATED:20250115T174658Z
LAST-MODIFIED:20250115T174658Z
UID:7909-1755885600-1755896400@kanuclub-herborn.de
SUMMARY:Paddlertreff
DESCRIPTION:Wir treffen uns am Bootshaus und Grillen bei netten Gesprächen.. \nGrillgut bringt bitte jeder mit\, Getränke sind vorhanden.
URL:https://kanuclub-herborn.de/termin/paddlertreff-19/
LOCATION:Bootshaus
CATEGORIES:Paddlertreff
ATTACH;FMTTYPE=image/jpeg:https://kanuclub-herborn.de/wp-content/uploads/2020/08/paddlertreff-2.jpg
END:VEVENT
BEGIN:VEVENT
DTSTART;TZID=UTC:20250831T084500
DTEND;TZID=UTC:20250831T190000
DTSTAMP:20260424T175751
CREATED:20250115T174834Z
LAST-MODIFIED:20250115T174834Z
UID:7911-1756629900-1756666800@kanuclub-herborn.de
SUMMARY:Rheinfahrt
DESCRIPTION:Treffpunkt: 8.45 Uhr am Bootshaus \nAbfahrt:      9.00Uhr
URL:https://kanuclub-herborn.de/termin/rheinfahrt-6/
CATEGORIES:Vereinsfahrt
END:VEVENT
END:VCALENDAR