BEGIN:VCALENDAR
VERSION:2.0
PRODID:-//Kanu-Club Herborn - ECPv6.15.20//NONSGML v1.0//EN
CALSCALE:GREGORIAN
METHOD:PUBLISH
X-ORIGINAL-URL:https://kanuclub-herborn.de
X-WR-CALDESC:Veranstaltungen für Kanu-Club Herborn
REFRESH-INTERVAL;VALUE=DURATION:PT1H
X-Robots-Tag:noindex
X-PUBLISHED-TTL:PT1H
BEGIN:VTIMEZONE
TZID:UTC
BEGIN:STANDARD
TZOFFSETFROM:+0000
TZOFFSETTO:+0000
TZNAME:UTC
DTSTART:20230101T000000
END:STANDARD
END:VTIMEZONE
BEGIN:VEVENT
DTSTART;TZID=UTC:20241003T100000
DTEND;TZID=UTC:20241003T180000
DTSTAMP:20260425T130120
CREATED:20240122T143253Z
LAST-MODIFIED:20240122T143253Z
UID:7857-1727949600-1727978400@kanuclub-herborn.de
SUMMARY:Paddeln auf dem Biggesee
DESCRIPTION:Info & Anmeldung bei Werner Lüke
URL:https://kanuclub-herborn.de/termin/paddeln-auf-dem-biggesee/
CATEGORIES:Vereinsfahrt
END:VEVENT
BEGIN:VEVENT
DTSTART;TZID=UTC:20241012T100000
DTEND;TZID=UTC:20241012T140000
DTSTAMP:20260425T130120
CREATED:20240122T142950Z
LAST-MODIFIED:20240122T142950Z
UID:7859-1728727200-1728741600@kanuclub-herborn.de
SUMMARY:„Sauberes Bootshaus“
DESCRIPTION:Ansprechpartner: Nils Riesinger und Steven Gehrmann
URL:https://kanuclub-herborn.de/termin/sauberes-bootshaus-3/
CATEGORIES:Aktion
ATTACH;FMTTYPE=image/jpeg:https://kanuclub-herborn.de/wp-content/uploads/2020/08/paddlertreff-2.jpg
END:VEVENT
BEGIN:VEVENT
DTSTART;VALUE=DATE:20241013
DTEND;VALUE=DATE:20241014
DTSTAMP:20260425T130120
CREATED:20240122T142938Z
LAST-MODIFIED:20240122T142938Z
UID:7821-1728777600-1728863999@kanuclub-herborn.de
SUMMARY:WWW-Tour 2024/2025 1. Fahrt
DESCRIPTION:von Gießen (Badenburg) nach Wetzlar (Fischerhütte)
URL:https://kanuclub-herborn.de/termin/www-tour-2024-2025-1-fahrt/
CATEGORIES:WWW-Tour
ATTACH;FMTTYPE=image/jpeg:https://kanuclub-herborn.de/wp-content/uploads/2020/08/WWW-Tour-Aumenau-Limburg-März-2019-4-1-e1632902763158.jpg
END:VEVENT
BEGIN:VEVENT
DTSTART;TZID=UTC:20241013T103000
DTEND;TZID=UTC:20241013T160000
DTSTAMP:20260425T130120
CREATED:20240122T142739Z
LAST-MODIFIED:20240122T142739Z
UID:7861-1728815400-1728835200@kanuclub-herborn.de
SUMMARY:Herbstwanderung
DESCRIPTION:Treffpunkt Bootshaus\, 10:30 Uhr. \nAnmeldung bei Willi Hehrmann.
URL:https://kanuclub-herborn.de/termin/herbstwanderung-4/
CATEGORIES:Vereinsfahrt
END:VEVENT
END:VCALENDAR