BEGIN:VCALENDAR
VERSION:2.0
PRODID:-//Kanu-Club Herborn - ECPv6.15.20//NONSGML v1.0//EN
CALSCALE:GREGORIAN
METHOD:PUBLISH
X-ORIGINAL-URL:https://kanuclub-herborn.de
X-WR-CALDESC:Veranstaltungen für Kanu-Club Herborn
REFRESH-INTERVAL;VALUE=DURATION:PT1H
X-Robots-Tag:noindex
X-PUBLISHED-TTL:PT1H
BEGIN:VTIMEZONE
TZID:UTC
BEGIN:STANDARD
TZOFFSETFROM:+0000
TZOFFSETTO:+0000
TZNAME:UTC
DTSTART:20230101T000000
END:STANDARD
END:VTIMEZONE
BEGIN:VEVENT
DTSTART;TZID=UTC:20240901T084500
DTEND;TZID=UTC:20240901T190000
DTSTAMP:20260425T145040
CREATED:20240122T144150Z
LAST-MODIFIED:20240122T144150Z
UID:7851-1725180300-1725217200@kanuclub-herborn.de
SUMMARY:Rheinfahrt
DESCRIPTION:Treffpunkt: 8.45 Uhr am Bootshaus \nAbfahrt:      9.00Uhr
URL:https://kanuclub-herborn.de/termin/rheinfahrt-5/
CATEGORIES:Vereinsfahrt
END:VEVENT
BEGIN:VEVENT
DTSTART;TZID=UTC:20240927T180000
DTEND;TZID=UTC:20240927T210000
DTSTAMP:20260425T145040
CREATED:20240122T144059Z
LAST-MODIFIED:20240122T144059Z
UID:7855-1727460000-1727470800@kanuclub-herborn.de
SUMMARY:Paddlertreff
DESCRIPTION:Wir treffen uns am Bootshaus und Grillen bei netten Gesprächen.. \nGrillgut bringt bitte jeder mit\, Getränke sind vorhanden.
URL:https://kanuclub-herborn.de/termin/paddlertreff-12/
LOCATION:Bootshaus
CATEGORIES:Paddlertreff
ATTACH;FMTTYPE=image/jpeg:https://kanuclub-herborn.de/wp-content/uploads/2020/08/paddlertreff-2.jpg
END:VEVENT
END:VCALENDAR