BEGIN:VCALENDAR
VERSION:2.0
PRODID:-//Kanu-Club Herborn - ECPv6.15.20//NONSGML v1.0//EN
CALSCALE:GREGORIAN
METHOD:PUBLISH
X-ORIGINAL-URL:https://kanuclub-herborn.de
X-WR-CALDESC:Veranstaltungen für Kanu-Club Herborn
REFRESH-INTERVAL;VALUE=DURATION:PT1H
X-Robots-Tag:noindex
X-PUBLISHED-TTL:PT1H
BEGIN:VTIMEZONE
TZID:UTC
BEGIN:STANDARD
TZOFFSETFROM:+0000
TZOFFSETTO:+0000
TZNAME:UTC
DTSTART:20250101T000000
END:STANDARD
END:VTIMEZONE
BEGIN:VEVENT
DTSTART;TZID=UTC:20261010T093000
DTEND;TZID=UTC:20261010T140000
DTSTAMP:20260425T122741
CREATED:20260112T203506Z
LAST-MODIFIED:20260112T203506Z
UID:7977-1791624600-1791640800@kanuclub-herborn.de
SUMMARY:„Sauberes Bootshaus“
DESCRIPTION:Ansprechpartner: Nils Riesinger und Steven Gehrmann
URL:https://kanuclub-herborn.de/termin/sauberes-bootshaus-8/
CATEGORIES:Aktion
ATTACH;FMTTYPE=image/jpeg:https://kanuclub-herborn.de/wp-content/uploads/2020/08/paddlertreff-2.jpg
END:VEVENT
END:VCALENDAR