BEGIN:VCALENDAR
VERSION:2.0
PRODID:-//Kanu-Club Herborn - ECPv6.15.20//NONSGML v1.0//EN
CALSCALE:GREGORIAN
METHOD:PUBLISH
X-ORIGINAL-URL:https://kanuclub-herborn.de
X-WR-CALDESC:Veranstaltungen für Kanu-Club Herborn
REFRESH-INTERVAL;VALUE=DURATION:PT1H
X-Robots-Tag:noindex
X-PUBLISHED-TTL:PT1H
BEGIN:VTIMEZONE
TZID:UTC
BEGIN:STANDARD
TZOFFSETFROM:+0000
TZOFFSETTO:+0000
TZNAME:UTC
DTSTART:20250101T000000
END:STANDARD
END:VTIMEZONE
BEGIN:VEVENT
DTSTART;VALUE=DATE:20260301
DTEND;VALUE=DATE:20260302
DTSTAMP:20260424T091757
CREATED:20260112T192447Z
LAST-MODIFIED:20260112T192447Z
UID:7948-1772323200-1772409599@kanuclub-herborn.de
SUMMARY:Kleinflussfahrt auf Sieg\, Nister\, Wied\, Elbbach
DESCRIPTION:Anmeldung bei Antje Nadler
URL:https://kanuclub-herborn.de/termin/kleinflussfahrt-auf-sieg-nister-wied-elbbach-2/
CATEGORIES:Vereinsfahrt
ATTACH;FMTTYPE=image/jpeg:https://kanuclub-herborn.de/wp-content/uploads/2020/08/wanderfahrt-1.jpg
END:VEVENT
END:VCALENDAR