BEGIN:VCALENDAR
VERSION:2.0
PRODID:-//Kanu-Club Herborn - ECPv6.15.20//NONSGML v1.0//EN
CALSCALE:GREGORIAN
METHOD:PUBLISH
X-ORIGINAL-URL:https://kanuclub-herborn.de
X-WR-CALDESC:Veranstaltungen für Kanu-Club Herborn
REFRESH-INTERVAL;VALUE=DURATION:PT1H
X-Robots-Tag:noindex
X-PUBLISHED-TTL:PT1H
BEGIN:VTIMEZONE
TZID:UTC
BEGIN:STANDARD
TZOFFSETFROM:+0000
TZOFFSETTO:+0000
TZNAME:UTC
DTSTART:20230101T000000
END:STANDARD
END:VTIMEZONE
BEGIN:VEVENT
DTSTART;TZID=UTC:20241003T100000
DTEND;TZID=UTC:20241003T180000
DTSTAMP:20260425T143417
CREATED:20240122T143253Z
LAST-MODIFIED:20240122T143253Z
UID:7857-1727949600-1727978400@kanuclub-herborn.de
SUMMARY:Paddeln auf dem Biggesee
DESCRIPTION:Info & Anmeldung bei Werner Lüke
URL:https://kanuclub-herborn.de/termin/paddeln-auf-dem-biggesee/
CATEGORIES:Vereinsfahrt
END:VEVENT
END:VCALENDAR